BEGIN:VCALENDAR
VERSION:2.0
PRODID:DPCALENDAR
CALSCALE:GREGORIAN
BEGIN:VTIMEZONE
TZID:America/Los_Angeles
X-MICROSOFT-CDO-TZID:13
BEGIN:STANDARD
DTSTART:20251102T090000
TZOFFSETFROM:-0700
TZOFFSETTO:-0800
TZNAME:PST
END:STANDARD
BEGIN:DAYLIGHT
DTSTART:20260308T100000
TZOFFSETFROM:-0800
TZOFFSETTO:-0700
TZNAME:PDT
END:DAYLIGHT
BEGIN:STANDARD
DTSTART:20261101T090000
TZOFFSETFROM:-0700
TZOFFSETTO:-0800
TZNAME:PST
END:STANDARD
END:VTIMEZONE
X-WR-TIMEZONE:America/Los_Angeles
BEGIN:VEVENT
DTSTART;TZID=America/Los_Angeles:20210315T173000
DTEND;TZID=America/Los_Angeles:20210315T183000
UID:BD410E38-8719-49EE-8752-D762D16D243F
SUMMARY:Posture Correction & Massage Techniques - Posture Hacks for Better Sleep
DTSTAMP:20210113T183007Z
DESCRIPTION:Aches and pain in your back or neck? Find out how to release persistent muscle tension and achieve better posture by attending these classes! Today's session is titled Posture Hacks for Better Sleep. Learn how to manipulate your surroundings for a better nights sleep and more refreshing morning.\NMeeting Id: 954 0952 1092\NPassword: Spring2021\NZoom Link\NInstructional Fitness Disclaimer:During the State of Emergency declared by Governor Gavin Newsom concerning the pandemic caused by the COVID-19 virus and the closure of California State University, Long Beach, the Associated Students, Inc. (ASI) at California State University, Long Beach will provide on-line instructional workouts (“Activity”) through its Student Recreation and Wellness Center to persons (“Users”) who want to voluntarily participate. User acknowledges and agrees that participation in the Activity is voluntary. By logging into the Activity, User expressly agrees to release from liability the ASI, the State of California, the Trustees of the California State University, agents and employees, officers, directors, and volunteers of said entities for any and all acts and omissions of negligence and/or other wrongful misconduct by said entities and/or parties for any injuries, losses, illnesses, and/or damages including but not limited to wrongful death arising out of User’s voluntary participation in the Activity. User further agrees to waive any claim for injuries, losses, illnesses, and/or damages including but not limited to wrongful death arising out of User’s participation in the Activity. User understands and agrees that no claim shall be brought and/or lawsuit filed against ASI, the State of California, the Trustees of the California State University, agents and employees, officers, directors, and volunteers of the ASI and the California State University, Long Beach for any injuries, losses, illnesses, and/or damages including but not limited to wrongful death arising out of User’s voluntary participation in the Activity. User expressly waives any and all claims for injuries, losses, illnesses, and/or damages arising out of User’s participation in the Activity against the ASI, the State of California, the Trustees of the California State University, agents and employees, officers, directors, and volunteers of said entities.
X-ALT-DESC;FMTTYPE=text/html:<p>Aches and pain in your back or neck? Find out how to release persistent muscle tension and achieve better posture by attending these classes! Today's session is titled Posture Hacks for Better Sleep. Learn how to manipulate your surroundings for a better nights sleep and more refreshing morning.</p><p><b>Meeting Id:</b> 954 0952 1092</p><p><b>Password:</b> Spring2021</p><p><b><a href="https://csulb-hipaa.zoom.us/j/95409521092?pwd=Q2lLa0g0NXFiZ0QwWkluK0Fpdkg2Zz09" target="_blank">Zoom Link</a></b></p><p style="color: red;"><b>Instructional Fitness Disclaimer:</b>During the State of Emergency declared by Governor Gavin Newsom concerning the pandemic caused by the COVID-19 virus and the closure of California State University, Long Beach, the Associated Students, Inc. (ASI) at California State University, Long Beach will provide on-line instructional workouts (“Activity”) through its Student Recreation and Wellness Center to persons (“Users”) who want to voluntarily participate. User acknowledges and agrees that participation in the Activity is voluntary. By logging into the Activity, User expressly agrees to release from liability the ASI, the State of California, the Trustees of the California State University, agents and employees, officers, directors, and volunteers of said entities for any and all acts and omissions of negligence and/or other wrongful misconduct by said entities and/or parties for any injuries, losses, illnesses, and/or damages including but not limited to wrongful death arising out of User’s voluntary participation in the Activity. User further agrees to waive any claim for injuries, losses, illnesses, and/or damages including but not limited to wrongful death arising out of User’s participation in the Activity. User understands and agrees that no claim shall be brought and/or lawsuit filed against ASI, the State of California, the Trustees of the California State University, agents and employees, officers, directors, and volunteers of the ASI and the California State University, Long Beach for any injuries, losses, illnesses, and/or damages including but not limited to wrongful death arising out of User’s voluntary participation in the Activity. User expressly waives any and all claims for injuries, losses, illnesses, and/or damages arising out of User’s participation in the Activity against the ASI, the State of California, the Trustees of the California State University, agents and employees, officers, directors, and volunteers of said entities.</p>
LAST-MODIFIED:20210227T025300Z
X-ACCESS:1
X-HITS:1468
X-URL:
X-COLOR:9F45B0
END:VEVENT
END:VCALENDAR